BEGIN:VCALENDAR
VERSION:2.0
PRODID:-//Normal Park Museum Magnet - ECPv6.15.20//NONSGML v1.0//EN
CALSCALE:GREGORIAN
METHOD:PUBLISH
X-WR-CALNAME:Normal Park Museum Magnet
X-ORIGINAL-URL:https://normalpark.staging.hcde.org
X-WR-CALDESC:Events for Normal Park Museum Magnet
REFRESH-INTERVAL;VALUE=DURATION:PT1H
X-Robots-Tag:noindex
X-PUBLISHED-TTL:PT1H
BEGIN:VTIMEZONE
TZID:America/New_York
BEGIN:DAYLIGHT
TZOFFSETFROM:-0500
TZOFFSETTO:-0400
TZNAME:EDT
DTSTART:20240310T070000
END:DAYLIGHT
BEGIN:STANDARD
TZOFFSETFROM:-0400
TZOFFSETTO:-0500
TZNAME:EST
DTSTART:20241103T060000
END:STANDARD
BEGIN:DAYLIGHT
TZOFFSETFROM:-0500
TZOFFSETTO:-0400
TZNAME:EDT
DTSTART:20250309T070000
END:DAYLIGHT
BEGIN:STANDARD
TZOFFSETFROM:-0400
TZOFFSETTO:-0500
TZNAME:EST
DTSTART:20251102T060000
END:STANDARD
BEGIN:DAYLIGHT
TZOFFSETFROM:-0500
TZOFFSETTO:-0400
TZNAME:EDT
DTSTART:20260308T070000
END:DAYLIGHT
BEGIN:STANDARD
TZOFFSETFROM:-0400
TZOFFSETTO:-0500
TZNAME:EST
DTSTART:20261101T060000
END:STANDARD
END:VTIMEZONE
BEGIN:VEVENT
DTSTART;VALUE=DATE:20251001
DTEND;VALUE=DATE:20251002
DTSTAMP:20260421T015354
CREATED:20250903T132535Z
LAST-MODIFIED:20250903T132535Z
UID:10000042-1759276800-1759363199@normalpark.staging.hcde.org
SUMMARY:Student Picture Day
DESCRIPTION:
URL:https://normalpark.staging.hcde.org/event/student-picture-day/
END:VEVENT
BEGIN:VEVENT
DTSTART;VALUE=DATE:20251006
DTEND;VALUE=DATE:20251011
DTSTAMP:20260421T015354
CREATED:20250903T132639Z
LAST-MODIFIED:20250903T132639Z
UID:10000043-1759708800-1760140799@normalpark.staging.hcde.org
SUMMARY:Bookfair at Upper School
DESCRIPTION:
URL:https://normalpark.staging.hcde.org/event/bookfair-at-upper-school/
END:VEVENT
BEGIN:VEVENT
DTSTART;TZID=America/New_York:20251007T173000
DTEND;TZID=America/New_York:20251007T190000
DTSTAMP:20260421T015354
CREATED:20250903T132821Z
LAST-MODIFIED:20250903T132821Z
UID:10000044-1759858200-1759863600@normalpark.staging.hcde.org
SUMMARY:Exhibit Night - K\, 2\, 4\, 6
DESCRIPTION:
URL:https://normalpark.staging.hcde.org/event/exhibit-night-k-2-4-6/
END:VEVENT
BEGIN:VEVENT
DTSTART;TZID=America/New_York:20251009T173000
DTEND;TZID=America/New_York:20251009T190000
DTSTAMP:20260421T015354
CREATED:20250903T132854Z
LAST-MODIFIED:20250903T132854Z
UID:10000045-1760031000-1760036400@normalpark.staging.hcde.org
SUMMARY:Exhibit Night - PK\, 1\, 3\, 5\, 7\, 8
DESCRIPTION:
URL:https://normalpark.staging.hcde.org/event/exhibit-night-pk-1-3-5-7-8/
END:VEVENT
BEGIN:VEVENT
DTSTART;VALUE=DATE:20251013
DTEND;VALUE=DATE:20251015
DTSTAMP:20260421T015354
CREATED:20250701T165651Z
LAST-MODIFIED:20250701T165651Z
UID:10000006-1760313600-1760486399@normalpark.staging.hcde.org
SUMMARY:Columbus Day
DESCRIPTION:
URL:https://normalpark.staging.hcde.org/event/columbus-day/
END:VEVENT
BEGIN:VEVENT
DTSTART;VALUE=DATE:20251013
DTEND;VALUE=DATE:20251018
DTSTAMP:20260421T015354
CREATED:20250701T165655Z
LAST-MODIFIED:20250908T151512Z
UID:10000010-1760313600-1760745599@normalpark.staging.hcde.org
SUMMARY:Fall Break
DESCRIPTION:
URL:https://normalpark.staging.hcde.org/event/fall-break/
END:VEVENT
BEGIN:VEVENT
DTSTART;VALUE=DATE:20251020
DTEND;VALUE=DATE:20251021
DTSTAMP:20260421T015354
CREATED:20250908T170850Z
LAST-MODIFIED:20250908T170850Z
UID:10000064-1760918400-1761004799@normalpark.staging.hcde.org
SUMMARY:PD day - no students
DESCRIPTION:
URL:https://normalpark.staging.hcde.org/event/pd-day-no-students-3/
END:VEVENT
BEGIN:VEVENT
DTSTART;VALUE=DATE:20251024
DTEND;VALUE=DATE:20251025
DTSTAMP:20260421T015354
CREATED:20250903T133121Z
LAST-MODIFIED:20250903T133121Z
UID:10000046-1761264000-1761350399@normalpark.staging.hcde.org
SUMMARY:Report Cards go home
DESCRIPTION:
URL:https://normalpark.staging.hcde.org/event/report-cards-go-home/
END:VEVENT
BEGIN:VEVENT
DTSTART;VALUE=DATE:20251024
DTEND;VALUE=DATE:20251025
DTSTAMP:20260421T015354
CREATED:20250903T133156Z
LAST-MODIFIED:20250903T133156Z
UID:10000047-1761264000-1761350399@normalpark.staging.hcde.org
SUMMARY:Friday Night Lightning Dance at US
DESCRIPTION:
URL:https://normalpark.staging.hcde.org/event/friday-night-lightning-dance-at-us/
END:VEVENT
BEGIN:VEVENT
DTSTART;VALUE=DATE:20251031
DTEND;VALUE=DATE:20251101
DTSTAMP:20260421T015354
CREATED:20250701T165705Z
LAST-MODIFIED:20250903T135123Z
UID:10000015-1761868800-1761955199@normalpark.staging.hcde.org
SUMMARY:Halloween
DESCRIPTION:
URL:https://normalpark.staging.hcde.org/event/halloween/
END:VEVENT
END:VCALENDAR